BEGIN:VCALENDAR
VERSION:2.0
PRODID:-//MotorsportsCalendar//NONSGML v1.0//EN
CALSCALE:GREGORIAN
METHOD:PUBLISH
X-WR-CALNAME:Formula 1 - Monaco GP
X-WR-TIMEZONE:UTC
BEGIN:VEVENT
UID:e7c8ecfe05531626e1587e2938f0d644@motorsportscalendar.com
DTSTAMP:20260420T140745Z
DTSTART:20260605T113000Z
DTEND:20260605T133000Z
SUMMARY:Free Practice 1
LOCATION:Monte Carlo
DESCRIPTION:Monaco GP - Free Practice 1 at Monte Carlo
END:VEVENT
BEGIN:VEVENT
UID:d0cf4514be42d4e3b0f54c51c9d196e4@motorsportscalendar.com
DTSTAMP:20260420T140745Z
DTSTART:20260605T150000Z
DTEND:20260605T170000Z
SUMMARY:Free Practice 2
LOCATION:Monte Carlo
DESCRIPTION:Monaco GP - Free Practice 2 at Monte Carlo
END:VEVENT
BEGIN:VEVENT
UID:e67d46aed9ee089536c61bf1fa4e06c5@motorsportscalendar.com
DTSTAMP:20260420T140745Z
DTSTART:20260606T103000Z
DTEND:20260606T123000Z
SUMMARY:Free Practice 3
LOCATION:Monte Carlo
DESCRIPTION:Monaco GP - Free Practice 3 at Monte Carlo
END:VEVENT
BEGIN:VEVENT
UID:a3ab238f7b77e569b4c40220c8b1ee13@motorsportscalendar.com
DTSTAMP:20260420T140745Z
DTSTART:20260606T140000Z
DTEND:20260606T160000Z
SUMMARY:Qualifying
LOCATION:Monte Carlo
DESCRIPTION:Monaco GP - Qualifying at Monte Carlo
END:VEVENT
BEGIN:VEVENT
UID:3bd154969754c531ab8daeb97cc21b4a@motorsportscalendar.com
DTSTAMP:20260420T140745Z
DTSTART:20260607T130000Z
DTEND:20260607T150000Z
SUMMARY:Race
LOCATION:Monte Carlo
DESCRIPTION:Monaco GP - Race at Monte Carlo
END:VEVENT
END:VCALENDAR
