BEGIN:VCALENDAR
VERSION:2.0
PRODID:-//MotorsportsCalendar//NONSGML v1.0//EN
CALSCALE:GREGORIAN
METHOD:PUBLISH
X-WR-CALNAME:Formula 2 - Spielberg
X-WR-TIMEZONE:UTC
BEGIN:VEVENT
UID:c57a56f703fcaa09a9cfb23e46135937@motorsportscalendar.com
DTSTAMP:20260420T034620Z
DTSTART:20250627T090500Z
DTEND:20250627T110500Z
SUMMARY:Free Practice
LOCATION:Red Bull Ring
DESCRIPTION:Spielberg - Free Practice at Red Bull Ring
END:VEVENT
BEGIN:VEVENT
UID:16e1b66268b23a938cf07ecf7bc78d2f@motorsportscalendar.com
DTSTAMP:20260420T034620Z
DTSTART:20250627T135500Z
DTEND:20250627T155500Z
SUMMARY:Qualifying
LOCATION:Red Bull Ring
DESCRIPTION:Spielberg - Qualifying at Red Bull Ring
END:VEVENT
BEGIN:VEVENT
UID:6555b4a80b8f3a0edbdb74c423f22048@motorsportscalendar.com
DTSTAMP:20260420T034620Z
DTSTART:20250628T121500Z
DTEND:20250628T141500Z
SUMMARY:Sprint Race
LOCATION:Red Bull Ring
DESCRIPTION:Spielberg - Sprint Race at Red Bull Ring
END:VEVENT
BEGIN:VEVENT
UID:9e79d80be7f2283d8b427e802d1ca9e5@motorsportscalendar.com
DTSTAMP:20260420T034620Z
DTSTART:20250629T080000Z
DTEND:20250629T100000Z
SUMMARY:Race
LOCATION:Red Bull Ring
DESCRIPTION:Spielberg - Race at Red Bull Ring
END:VEVENT
END:VCALENDAR
