BEGIN:VCALENDAR
VERSION:2.0
PRODID:-//MotorsportsCalendar//NONSGML v1.0//EN
CALSCALE:GREGORIAN
METHOD:PUBLISH
X-WR-CALNAME:Formula E - London ePrix I
X-WR-TIMEZONE:UTC
BEGIN:VEVENT
UID:b5e55adb7e9ebe7077610e4b000133bf@motorsportscalendar.com
DTSTAMP:20260425T032949Z
DTSTART:20250725T150000Z
DTEND:20250725T170000Z
SUMMARY:Free Practice 1
LOCATION:London
DESCRIPTION:London ePrix I - Free Practice 1 at London
END:VEVENT
BEGIN:VEVENT
UID:6eff673edd6be7a5e865191de100a167@motorsportscalendar.com
DTSTAMP:20260425T032949Z
DTSTART:20250726T090000Z
DTEND:20250726T110000Z
SUMMARY:Free Practice 2
LOCATION:London
DESCRIPTION:London ePrix I - Free Practice 2 at London
END:VEVENT
BEGIN:VEVENT
UID:0779fd34839cf776a4873fead4b85a96@motorsportscalendar.com
DTSTAMP:20260425T032949Z
DTSTART:20250726T112000Z
DTEND:20250726T132000Z
SUMMARY:Qualifying
LOCATION:London
DESCRIPTION:London ePrix I - Qualifying at London
END:VEVENT
BEGIN:VEVENT
UID:52cdf50cf6546b7defd218d7c949ec31@motorsportscalendar.com
DTSTAMP:20260425T032949Z
DTSTART:20250726T160500Z
DTEND:20250726T180500Z
SUMMARY:Race
LOCATION:London
DESCRIPTION:London ePrix I - Race at London
END:VEVENT
END:VCALENDAR
