BEGIN:VCALENDAR
VERSION:2.0
PRODID:-//MotorsportsCalendar//NONSGML v1.0//EN
CALSCALE:GREGORIAN
METHOD:PUBLISH
X-WR-CALNAME:Indy NXT - Streets of Arlington
X-WR-TIMEZONE:UTC
BEGIN:VEVENT
UID:52442602afc34f8675385b993b0d9638@motorsportscalendar.com
DTSTAMP:20260425T171345Z
DTSTART:20260313T190000Z
DTEND:20260313T210000Z
SUMMARY:Practice 1
LOCATION:Streets of Arlington
DESCRIPTION:Streets of Arlington - Practice 1 at Streets of Arlington
END:VEVENT
BEGIN:VEVENT
UID:0ea9436d0d5c01232405488c7a797bcb@motorsportscalendar.com
DTSTAMP:20260425T171345Z
DTSTART:20260314T151500Z
DTEND:20260314T171500Z
SUMMARY:Practice 2
LOCATION:Streets of Arlington
DESCRIPTION:Streets of Arlington - Practice 2 at Streets of Arlington
END:VEVENT
BEGIN:VEVENT
UID:de41a74fdde03ac0df20de9f99c97f65@motorsportscalendar.com
DTSTAMP:20260425T171345Z
DTSTART:20260314T203000Z
DTEND:20260314T223000Z
SUMMARY:Qualifying
LOCATION:Streets of Arlington
DESCRIPTION:Streets of Arlington - Qualifying at Streets of Arlington
END:VEVENT
BEGIN:VEVENT
UID:77775ceb66be3db96b1bcad6140b026f@motorsportscalendar.com
DTSTAMP:20260425T171345Z
DTSTART:20260315T150000Z
DTEND:20260315T170000Z
SUMMARY:Race
LOCATION:Streets of Arlington
DESCRIPTION:Streets of Arlington - Race at Streets of Arlington
END:VEVENT
END:VCALENDAR
