BEGIN:VCALENDAR
VERSION:2.0
PRODID:-//MotorsportsCalendar//NONSGML v1.0//EN
CALSCALE:GREGORIAN
METHOD:PUBLISH
X-WR-CALNAME:Le Mans - Imola
X-WR-TIMEZONE:UTC
BEGIN:VEVENT
UID:5bff70ff2feba84050c745f5a4bb2ad1@motorsportscalendar.com
DTSTAMP:20260420T103222Z
DTSTART:20260417T081500Z
DTEND:20260417T101500Z
SUMMARY:Free Practice 1
LOCATION:Imola
DESCRIPTION:Imola - Free Practice 1 at Imola
END:VEVENT
BEGIN:VEVENT
UID:7f294c9e7da573c9c757c931622ce318@motorsportscalendar.com
DTSTAMP:20260420T103222Z
DTSTART:20260417T131500Z
DTEND:20260417T151500Z
SUMMARY:Free Practice 2
LOCATION:Imola
DESCRIPTION:Imola - Free Practice 2 at Imola
END:VEVENT
BEGIN:VEVENT
UID:adb38e3e0f314dd2e976a6b75791ace5@motorsportscalendar.com
DTSTAMP:20260420T103222Z
DTSTART:20260418T083000Z
DTEND:20260418T103000Z
SUMMARY:Free Practice 3
LOCATION:Imola
DESCRIPTION:Imola - Free Practice 3 at Imola
END:VEVENT
BEGIN:VEVENT
UID:b3f341a3d9ea45e01a59c5e04de2c765@motorsportscalendar.com
DTSTAMP:20260420T103222Z
DTSTART:20260418T123000Z
DTEND:20260418T143000Z
SUMMARY:Qualifying
LOCATION:Imola
DESCRIPTION:Imola - Qualifying at Imola
END:VEVENT
BEGIN:VEVENT
UID:fb3690983876f08be080f3e21c738b6a@motorsportscalendar.com
DTSTAMP:20260420T103222Z
DTSTART:20260419T110000Z
DTEND:20260419T130000Z
SUMMARY:Race
LOCATION:Imola
DESCRIPTION:Imola - Race at Imola
END:VEVENT
END:VCALENDAR
