BEGIN:VCALENDAR
VERSION:2.0
PRODID:-//MotorsportsCalendar//NONSGML v1.0//EN
CALSCALE:GREGORIAN
METHOD:PUBLISH
X-WR-CALNAME:Moto3 - AutÃ³dromo Internacional Ayrton Senna
X-WR-TIMEZONE:UTC
BEGIN:VEVENT
UID:c53ad86ad37c98662b230ddee9812c6e@motorsportscalendar.com
DTSTAMP:20260425T170833Z
DTSTART:20260320T130000Z
DTEND:20260320T150000Z
SUMMARY:Free Practice 1
LOCATION:Autodromo Internacional Ayrton Senna
DESCRIPTION:AutÃ³dromo Internacional Ayrton Senna - Free Practice 1 at Autodromo Internacional Ayrton Senna
END:VEVENT
BEGIN:VEVENT
UID:ae47d7795b5f0d5bb0b8d6ce18f7420a@motorsportscalendar.com
DTSTAMP:20260425T170833Z
DTSTART:20260320T171500Z
DTEND:20260320T191500Z
SUMMARY:Practice
LOCATION:Autodromo Internacional Ayrton Senna
DESCRIPTION:AutÃ³dromo Internacional Ayrton Senna - Practice at Autodromo Internacional Ayrton Senna
END:VEVENT
BEGIN:VEVENT
UID:a815680b828711b506c1ab1015277cbd@motorsportscalendar.com
DTSTAMP:20260425T170833Z
DTSTART:20260321T114000Z
DTEND:20260321T134000Z
SUMMARY:Free Practice 2
LOCATION:Autodromo Internacional Ayrton Senna
DESCRIPTION:AutÃ³dromo Internacional Ayrton Senna - Free Practice 2 at Autodromo Internacional Ayrton Senna
END:VEVENT
BEGIN:VEVENT
UID:970c63c3172ce3ea7be7841c76610c2a@motorsportscalendar.com
DTSTAMP:20260425T170833Z
DTSTART:20260321T201000Z
DTEND:20260321T221000Z
SUMMARY:Qualifying 1
LOCATION:Autodromo Internacional Ayrton Senna
DESCRIPTION:AutÃ³dromo Internacional Ayrton Senna - Qualifying 1 at Autodromo Internacional Ayrton Senna
END:VEVENT
BEGIN:VEVENT
UID:27ed31042ddbe224e78518dcddf9d95d@motorsportscalendar.com
DTSTAMP:20260425T170833Z
DTSTART:20260321T203500Z
DTEND:20260321T223500Z
SUMMARY:Qualifying 2
LOCATION:Autodromo Internacional Ayrton Senna
DESCRIPTION:AutÃ³dromo Internacional Ayrton Senna - Qualifying 2 at Autodromo Internacional Ayrton Senna
END:VEVENT
BEGIN:VEVENT
UID:26c315d0e80be317bdea4bf060f36a97@motorsportscalendar.com
DTSTAMP:20260425T170833Z
DTSTART:20260322T150000Z
DTEND:20260322T170000Z
SUMMARY:Race
LOCATION:Autodromo Internacional Ayrton Senna
DESCRIPTION:AutÃ³dromo Internacional Ayrton Senna - Race at Autodromo Internacional Ayrton Senna
END:VEVENT
END:VCALENDAR
