BEGIN:VCALENDAR
VERSION:2.0
PRODID:-//MotorsportsCalendar//NONSGML v1.0//EN
CALSCALE:GREGORIAN
METHOD:PUBLISH
X-WR-CALNAME:NLS - NLS1: 71. ADAC Westfalenfahrt (4h)
X-WR-TIMEZONE:UTC
BEGIN:VEVENT
UID:e2a3849b61224bfe1657bb16755cc279@motorsportscalendar.com
DTSTAMP:20260424T080816Z
DTSTART:20260314T073000Z
DTEND:20260314T093000Z
SUMMARY:Qualifying
LOCATION:Nürburgring Nordschleife
DESCRIPTION:NLS1: 71. ADAC Westfalenfahrt (4h) - Qualifying at Nürburgring Nordschleife
END:VEVENT
BEGIN:VEVENT
UID:1bf224eb9695f8439de5a143dd0d98ea@motorsportscalendar.com
DTSTAMP:20260424T080816Z
DTSTART:20260314T110000Z
DTEND:20260314T130000Z
SUMMARY:Race
LOCATION:Nürburgring Nordschleife
DESCRIPTION:NLS1: 71. ADAC Westfalenfahrt (4h) - Race at Nürburgring Nordschleife
END:VEVENT
END:VCALENDAR
