BEGIN:VCALENDAR
VERSION:2.0
PRODID:-//MotorsportsCalendar//NONSGML v1.0//EN
CALSCALE:GREGORIAN
METHOD:PUBLISH
X-WR-CALNAME:NLS - NLS8: 65. ADAC Reinoldus-Langstreckenrennen (4h)
X-WR-TIMEZONE:UTC
BEGIN:VEVENT
UID:85a654f7e8da5bb1b15e5191b33a8797@motorsportscalendar.com
DTSTAMP:20260420T100956Z
DTSTART:20260912T063000Z
DTEND:20260912T083000Z
SUMMARY:Qualifying
LOCATION:Nürburgring Nordschleife
DESCRIPTION:NLS8: 65. ADAC Reinoldus-Langstreckenrennen (4h) - Qualifying at Nürburgring Nordschleife
END:VEVENT
BEGIN:VEVENT
UID:fc59fb5ceb291453b69fe8b5a1b3460e@motorsportscalendar.com
DTSTAMP:20260420T100956Z
DTSTART:20260912T100000Z
DTEND:20260912T120000Z
SUMMARY:Race
LOCATION:Nürburgring Nordschleife
DESCRIPTION:NLS8: 65. ADAC Reinoldus-Langstreckenrennen (4h) - Race at Nürburgring Nordschleife
END:VEVENT
END:VCALENDAR
